BEGIN:VCALENDAR
VERSION:2.0
PRODID:-//Flow Studio - ECPv5.7.0//NONSGML v1.0//EN
CALSCALE:GREGORIAN
METHOD:PUBLISH
X-WR-CALNAME:Flow Studio
X-ORIGINAL-URL:https://flow-studio.lu
X-WR-CALDESC:Events for Flow Studio
BEGIN:VTIMEZONE
TZID:UTC
BEGIN:STANDARD
TZOFFSETFROM:+0000
TZOFFSETTO:+0000
TZNAME:UTC
DTSTART:20200101T000000
END:STANDARD
END:VTIMEZONE
BEGIN:VEVENT
DTSTART;TZID=UTC:20201011T110000
DTEND;TZID=UTC:20201011T121500
DTSTAMP:20210720T195210
CREATED:20201005T200737Z
LAST-MODIFIED:20201005T200737Z
UID:557-1602414000-1602418500@flow-studio.lu
SUMMARY:Lifestyle Changes for Pandemic Times; An Ayurvedic perspective
DESCRIPTION:Nutrition and lifestyle habits are crucial to maintain optimal health\, especially in a period when the immune system is needed to fight back. In this webinar Dr Dinil will share with us the perspective of Ayurveda including which lifestyle changes could be recommended during the pandemic of Covid-19: \nSome of the topics that will be discussed: \nThe expected health challenges we face during pandemic times. \nThe measures we can take to strengthen our immunity both nutrition and lifestyle. \nAyurvedic practices that have been proven to improve immunity. \nUseful mental health regimens that can be helpful during a pandemic. \nThis webinar will take place Sunday October 11th at 11:00 via Zoom\, please register to attend.\nParticipation fee 15 EUR or buy a pack of 5 online classes for 50 EUR (price per class is 10 EUR)
URL:https://flow-studio.lu/event/lifestyle-changes-for-pandemic-times-an-ayurvedic-perspective/
LOCATION:Online via Zoom
CATEGORIES:Ayurveda
ATTACH;FMTTYPE=image/jpeg:https://flow-studio.lu/wp-content/uploads/2020/10/Pandemic-Times-crop.jpg
END:VEVENT
END:VCALENDAR